BEGIN:VCALENDAR
VERSION:2.0
PRODID:-//Camara Ecuatoriano Británica - ECPv6.3.7//NONSGML v1.0//EN
CALSCALE:GREGORIAN
METHOD:PUBLISH
X-ORIGINAL-URL:https://britcham.com.ec
X-WR-CALDESC:Events for Camara Ecuatoriano Británica
REFRESH-INTERVAL;VALUE=DURATION:PT1H
X-Robots-Tag:noindex
X-PUBLISHED-TTL:PT1H
BEGIN:VTIMEZONE
TZID:UTC
BEGIN:STANDARD
TZOFFSETFROM:+0000
TZOFFSETTO:+0000
TZNAME:UTC
DTSTART:20250101T000000
END:STANDARD
END:VTIMEZONE
BEGIN:VEVENT
DTSTART;VALUE=DATE:20251002
DTEND;VALUE=DATE:20251003
DTSTAMP:20260420T122712
CREATED:20251006T154827Z
LAST-MODIFIED:20251006T201455Z
UID:7083-1759363200-1759449599@britcham.com.ec
SUMMARY:Reconocimiento Sello Empresa Inclusiva de ACNUR
DESCRIPTION:El pasado 2 de octubre\, la Cámara Ecuatoriano Británica fue reconocida con el Sello de Empresa Inclusiva\, otorgado por ACNUR Ecuador durante la cuarta edición de este importante programa que promueve la integración laboral de personas en situación de movilidad humana. \nEl reconocimiento distingue a las instituciones y empresas que impulsan modelos de valor compartido\, fomentando entornos laborales diversos\, equitativos y comprometidos con el progreso social. Este galardón refleja el compromiso constante de la Cámara con la responsabilidad social empresarial\, la inclusión y la generación de oportunidades sostenibles para todos. \nLa iniciativa “Empresas con Personas Refugiadas” busca fortalecer alianzas entre el sector privado y organismos internacionales para construir economías más justas\, resilientes e inclusivas. En este contexto\, la BritCham reafirma su propósito de conectar el éxito empresarial con el bienestar colectivo\, impulsando proyectos y espacios que contribuyen al desarrollo integral del país. \nCon este reconocimiento\, la Cámara Ecuatoriano Británica renueva su compromiso con la promoción de la diversidad y la construcción de un Ecuador más inclusivo\, donde las empresas sean motores de transformación social y agentes activos de cambio positivo.
URL:https://britcham.com.ec/event/la-camara-ecuatoriano-britanica-recibio-el-reconocimiento-sello-empresa-inclusiva-por-parte-de-acnur/
ATTACH;FMTTYPE=image/jpeg:https://britcham.com.ec/wp-content/uploads/2025/10/image00002-1.jpeg
END:VEVENT
BEGIN:VEVENT
DTSTART;VALUE=DATE:20251002
DTEND;VALUE=DATE:20251004
DTSTAMP:20260420T122712
CREATED:20251006T155658Z
LAST-MODIFIED:20251006T201251Z
UID:7088-1759363200-1759535999@britcham.com.ec
SUMMARY:I Foro Global: Competencia\, Mercados Digitales y Sostenibilidad en Santa Cruz\, Galápagos
DESCRIPTION:El pasado 2 y 3 de octubre\, la Cámara Ecuatoriano Británica participó en el Foro Global: Competencia\, Mercados Digitales y Sostenibilidad\, llevado a cabo en Santa Cruz\, Islas Galápagos. Este encuentro\, organizado por la Superintendencia de Competencia Económica\, reunió a líderes nacionales e internacionales\, autoridades locales\, empresarios\, emprendedores\, estudiantes y representantes de organismos multilaterales para debatir sobre los desafíos del desarrollo sostenible y la innovación en los mercados digitales. \nLa Cámara formó parte de las jornadas como aliada institucional\, promoviendo el diálogo entre los sectores público y privado para impulsar políticas de sostenibilidad y cooperación económica. Durante el foro se abordaron temas clave como la digitalización de los mercados\, el equilibrio competitivo y las estrategias para fomentar una economía más inclusiva y resiliente. \nEn este espacio\, se presentó el Galápagos Living Lab for Energy Innovation\, una iniciativa pionera desarrollada junto al Gobierno del Reino Unido\, la Embajada Británica en Quito y diversos socios estratégicos. Este laboratorio vivo busca convertir al archipiélago en un referente mundial en transición energética\, mediante la implementación de tecnologías limpias\, la investigación aplicada y la cooperación entre el sector público\, privado y académico. Su objetivo es generar soluciones sostenibles que garanticen un suministro energético eficiente y libre de emisiones\, sirviendo como modelo replicable para otras regiones del país y del mundo. \nLa participación de la Cámara Ecuatoriano Británica reafirma su compromiso con la promoción de buenas prácticas empresariales\, la generación de alianzas estratégicas y el fortalecimiento de iniciativas que integren sostenibilidad\, competitividad e innovación. Desde las Galápagos\, este espacio simbolizó la unión de esfuerzos entre instituciones\, empresas y ciudadanía para avanzar hacia un modelo de desarrollo más justo\, equitativo y sostenible para el Ecuador y el mundo. \nExpresamos nuestro especial agradecimiento al Superintendente de Competencia Económica\, Msc. Hans W. Ehmig Dillon\, y a todo el equipo de la Superintendencia por su liderazgo y respaldo en la creación de espacios de diálogo que fortalecen la cooperación entre instituciones\, sector privado y ciudadanía.
URL:https://britcham.com.ec/event/7088/
ATTACH;FMTTYPE=image/jpeg:https://britcham.com.ec/wp-content/uploads/2025/10/Imagen-de-WhatsApp-2025-10-06-a-las-09.39.48_fd7d1ce6-1.jpg
END:VEVENT
END:VCALENDAR