BEGIN:VCALENDAR
VERSION:2.0
PRODID:-//Camara Ecuatoriano Británica - ECPv6.3.7//NONSGML v1.0//EN
CALSCALE:GREGORIAN
METHOD:PUBLISH
X-WR-CALNAME:Camara Ecuatoriano Británica
X-ORIGINAL-URL:https://britcham.com.ec
X-WR-CALDESC:Events for Camara Ecuatoriano Británica
REFRESH-INTERVAL;VALUE=DURATION:PT1H
X-Robots-Tag:noindex
X-PUBLISHED-TTL:PT1H
BEGIN:VTIMEZONE
TZID:UTC
BEGIN:STANDARD
TZOFFSETFROM:+0000
TZOFFSETTO:+0000
TZNAME:UTC
DTSTART:20250101T000000
END:STANDARD
END:VTIMEZONE
BEGIN:VEVENT
DTSTART;TZID=UTC:20251021T073000
DTEND;TZID=UTC:20251021T130000
DTSTAMP:20260420T134529
CREATED:20250728T135948Z
LAST-MODIFIED:20251023T175407Z
UID:6163-1761031800-1761051600@britcham.com.ec
SUMMARY:II Edición Foro Education & Innovation Summit
DESCRIPTION:Quito\, 21 de octubre de 2025 \nEste martes 21 de octubre de 2025 se llevó a cabo la II Edición del Education & Innovation Summit\, organizada por la Cámara Ecuatoriano Británica con el respaldo de la Embajada Británica en Quito\, Universidad San Francisco de Quito\, The British School y Unidos por la Educación. El encuentro tuvo lugar en el Teatro Shakespeare de la Universidad San Francisco de Quito (USFQ) y reunió a representantes del sector público\, privado\, académico y organizaciones sociales para reflexionar sobre el papel fundamental de la educación de calidad como motor de cambio. \nEl foro se consolidó como un espacio de diálogo y colaboración\, con el objetivo de generar propuestas que impulsen una transformación educativa sostenible y alineada con las necesidades del país. La jornada inició con un desayuno de bienvenida y palabras inaugurales de Diego Gordón S.\, Director Ejecutivo de BritCham y CIAM\, junto a Steven Mulvain Deputy Head of Mission de la Embajada Británica em Quito. \nPaneles de alto nivel y propuestas concretas \nDurante el evento se desarrollaron tres paneles temáticos que abordaron la educación desde distintas perspectivas: \n– Panel 1: Educación de calidad e innovación – alianzas estratégicas\, con la participación de Gustavo Ayala (Viceministro de Educación)\, Arturo Romboli (UNICEF)\, Carlos Montúfar (USFQ) y Jorge Rosillo (ECOGAL)\, moderado por Andrés Robalino (The British School). \n– Panel 2: Responsabilidad corporativa y educación – construyendo juntos\, con Juan Pablo Grijalva (El Ordeño)\, Carolina Yela (Netlife)\, Pamela Ycaza (Diseña Futuro)\, Valeria Orellana (Banco Internacional)\, moderado por Juan Pablo Guerrero (Unidos por la Educación). \n– Panel 3: Educación para el progreso – visión empresarial y futuro compartido\, con María Sol Paladines (Grupo Futuro)\, Lorena León (Fundación Favorita)\, David Vásquez (Bilda) y Carlos Madrigal (Grupo Danec)\, moderado por María José Ortega (Activaos). \nAdemás\, se presentó oficialmente al Viceministro de Educación los resultados de la mesa AEI. Se realizó también la entrega de reconocimientos a los Chevening Partners para agradecer a nuestros socios por todo su apoyo ya que gracias a su apoyo financiamos todas nuestras iniciativas. \nEducación con impacto social \nGracias a los fondos recaudados durante el evento\, la Cámara Ecuatoriano Británica financiará una beca Chevening —el prestigioso programa de posgrado del Gobierno Británico— dirigida a jóvenes ecuatorianos con potencial de liderazgo y compromiso social. Asimismo\, se realizará una donación anual a la iniciativa Unidos por la Educación\, que trabaja por mejorar el acceso y la calidad educativa en comunidades vulnerables. Este año\, también se destinarán recursos al apoyo de jóvenes emprendedores en el marco de los programas desarrollados junto a la Alianza para el Emprendimiento e Innovación (AEI). \nReconocimiento a aliados y patrocinadores \nLa Cámara agradece el respaldo de la Embajada Británica en Quito\, The British School\, Unidos por la Educación y la Universidad San Francisco de Quito. También extiende su gratitud a los auspiciantes: Grupo Danec\, Edimca\, Grupo Futuro\, Banco ProCredit\, LATAM Airlines\, ECOGAL\, El Ordeño\, Zurich\, Blue Ivy\, Mazda\, Arca Continental\, Andersen\, Netlife\, Bilda\, LAB-XXI\, Corporación Favorita y Fundación Favorita. El evento contó además con el apoyo de FECABE\, CIAM\, Impaqto\, Atrevia\, CEES\, AEI\, Ekos y UNICEF. \nCon esta segunda edición\, el Education & Innovation Summit reafirma su compromiso con la construcción de un ecosistema educativo más inclusivo\, innovador y conectado con las necesidades del país y del mundo.
URL:https://britcham.com.ec/event/ii-edicion-foro-education-innovation-summit/
ATTACH;FMTTYPE=image/jpeg:https://britcham.com.ec/wp-content/uploads/2025/07/Formato-Horizontal-Boletin-2.jpg
END:VEVENT
END:VCALENDAR